BEGIN:VCALENDAR
VERSION:2.0
PRODID:-//hacksw/handcal//NONSGML v1.0//EN
BEGIN:VEVENT
DTSTAMP:20161107T140000Z
DTSTART:20161107T140000Z
DTEND:20161107T180000Z
SUMMARY:Wahlkreistag mit Oppositionsführer Daniel Günther
END:VEVENT
END:VCALENDAR
