BEGIN:VCALENDAR
VERSION:2.0
PRODID:-//hacksw/handcal//NONSGML v1.0//EN
BEGIN:VEVENT
DTSTAMP:20161031T140000Z
DTSTART:20161031T140000Z
DTEND:20161031T163000Z
SUMMARY:Fachtag Teilhabe und Inklusion
END:VEVENT
END:VCALENDAR
