BEGIN:VCALENDAR
VERSION:2.0
PRODID:-//hacksw/handcal//NONSGML v1.0//EN
BEGIN:VEVENT
DTSTAMP:20160725T160000Z
DTSTART:20160725T160000Z
DTEND:20160725T180000Z
LOCATION:Restaurant Roter Hof, Rote Straße 14, Flensburg, 24937, Deutschland
SUMMARY:Vorstandssitzung CDU-Ortsverband Flensburg West
END:VEVENT
END:VCALENDAR
