BEGIN:VCALENDAR
VERSION:2.0
PRODID:-//hacksw/handcal//NONSGML v1.0//EN
BEGIN:VEVENT
DTSTAMP:20170210T130000Z
DTSTART:20170210T130000Z
DTEND:20170211T120000Z
LOCATION:Hotel Koldingfjord, Fjordvej 154, Kolding, 6000, Dänemark
SUMMARY:Klausurtagung der CDU-Ratsfraktion
END:VEVENT
END:VCALENDAR
