BEGIN:VCALENDAR
VERSION:2.0
PRODID:-//hacksw/handcal//NONSGML v1.0//EN
BEGIN:VEVENT
DTSTAMP:20161003T150000Z
DTSTART:20161003T150000Z
DTEND:20161003T163000Z
LOCATION:Schloss Gottorf, Schloßinsel 1, Schleswig, 24837, Deutschland
SUMMARY:Feier zum Tag der Deutschen Einheit
END:VEVENT
END:VCALENDAR
