BEGIN:VCALENDAR
VERSION:2.0
PRODID:-//hacksw/handcal//NONSGML v1.0//EN
BEGIN:VEVENT
DTSTAMP:20160726T163000Z
DTSTART:20160726T163000Z
DTEND:20160726T183000Z
LOCATION:Europäische Akademie Schleswig., Akademieweg 6, Oeversee, 24988, Deutschland
SUMMARY:Europa Union: Wie geht es weiter nach dem Brexit?
END:VEVENT
END:VCALENDAR
