BEGIN:VCALENDAR
VERSION:2.0
PRODID:-//hacksw/handcal//NONSGML v1.0//EN
BEGIN:VEVENT
DTSTAMP:20160901T140000Z
DTSTART:20160901T140000Z
DTEND:20160901T160000Z
LOCATION:Flensburger Rathaus, Flensburg-Zimmer (13. Stock, Zimmer 1305), Rathausplatz 1, Flensburg, 24937, Deutschland
SUMMARY:CDU-Nordkonferenz zu aktuellen Themen
END:VEVENT
END:VCALENDAR
