BEGIN:VCALENDAR
VERSION:2.0
PRODID:-//hacksw/handcal//NONSGML v1.0//EN
BEGIN:VEVENT
DTSTAMP:20170322T173000Z
DTSTART:20170322T173000Z
DTEND:20170322T200000Z
LOCATION:BoA, Am Friedenshügel 52, Flensburg, 24941, Deutschland
SUMMARY:Jahreshauptversammlung der Jungen Union Flensburg
END:VEVENT
END:VCALENDAR
