BEGIN:VCALENDAR
VERSION:2.0
PRODID:-//hacksw/handcal//NONSGML v1.0//EN
BEGIN:VEVENT
DTSTAMP:20170711T173000Z
DTSTART:20170711T173000Z
DTEND:20170711T193000Z
LOCATION:Landgasthof Tarp, Bahnhofstraße 1, Tarp, 24963, Deutschland
SUMMARY:Wahlkreismitgliederversammlung zur Nachnominierung für die Bundestagswahl
END:VEVENT
END:VCALENDAR
