BEGIN:VCALENDAR
VERSION:2.0
PRODID:-//hacksw/handcal//NONSGML v1.0//EN
BEGIN:VEVENT
DTSTAMP:20180428T073000Z
DTSTART:20180428T073000Z
DTEND:20180428T123000Z
LOCATION:Holmnixe, Holm, Flensburg, Deutschland
SUMMARY:Informationsstand an der Holmnixe
END:VEVENT
END:VCALENDAR
