BEGIN:VCALENDAR
VERSION:2.0
PRODID:-//hacksw/handcal//NONSGML v1.0//EN
BEGIN:VEVENT
DTSTAMP:20180818T150000Z
DTSTART:20180818T150000Z
DTEND:20180818T173000Z
LOCATION:Museumswerft Flensburg, Schiffbrücke 43, Flensburg, 24939, Deutschland
SUMMARY:Sommerfest der CDU Flensburg
END:VEVENT
END:VCALENDAR
