BEGIN:VCALENDAR
VERSION:2.0
PRODID:-//hacksw/handcal//NONSGML v1.0//EN
BEGIN:VEVENT
DTSTAMP:20180816T170000Z
DTSTART:20180816T170000Z
DTEND:20180816T183000Z
SUMMARY:Sitzung des Vorstandes der CDU Flensburg Ost
END:VEVENT
END:VCALENDAR
