BEGIN:VCALENDAR
VERSION:2.0
PRODID:-//hacksw/handcal//NONSGML v1.0//EN
BEGIN:VEVENT
DTSTAMP:20181002T150000Z
DTSTART:20181002T150000Z
DTEND:20181002T170000Z
LOCATION:Bürgersaal im Kreishaus Schleswig, Flensburger Str. 7, Schleswig, 24837, Deutschland
SUMMARY:Empfang zum Tag der deutschen Einheit
END:VEVENT
END:VCALENDAR
