BEGIN:VCALENDAR
VERSION:2.0
PRODID:-//hacksw/handcal//NONSGML v1.0//EN
BEGIN:VEVENT
DTSTAMP:20180926T130000Z
DTSTART:20180926T130000Z
DTEND:20180926T153000Z
LOCATION:Stadtteilcafé Friesischer Berg, Mathildenstr. 22, Flensburg, 24937, Deutschland
SUMMARY:Stammtisch der Senioren Union
END:VEVENT
END:VCALENDAR
