BEGIN:VCALENDAR
VERSION:2.0
PRODID:-//hacksw/handcal//NONSGML v1.0//EN
BEGIN:VEVENT
DTSTAMP:20180926T173000Z
DTSTART:20180926T173000Z
DTEND:20180926T190000Z
LOCATION:Sphinx-Zimmer des Robbe & Berking Yachting Heritage Centres, Am Industriehafen 5, Flensburg, 24937, Deutschland
SUMMARY:Jahreshauptversammlung des Ortsverbandes Flensburg Ost
END:VEVENT
END:VCALENDAR
