BEGIN:VCALENDAR
VERSION:2.0
PRODID:-//hacksw/handcal//NONSGML v1.0//EN
BEGIN:VEVENT
DTSTAMP:20190113T093000Z
DTSTART:20190113T093000Z
DTEND:20190113T133000Z
LOCATION:Deutsches Haus Flensburg, Berliner Platz 1, Flensburg, Deutschland
SUMMARY:CDU-Fraktion beim Neujahrsempfang der Stadt Flensburg
END:VEVENT
END:VCALENDAR
