BEGIN:VCALENDAR
VERSION:2.0
PRODID:-//hacksw/handcal//NONSGML v1.0//EN
BEGIN:VEVENT
DTSTAMP:20190116T180000Z
DTSTART:20190116T180000Z
DTEND:20190116T193000Z
LOCATION:Oase Flensburg, Kielseng 30, Flensburg, 24937, Deutschland
SUMMARY:OV Ost / Mitgliederversammlung
END:VEVENT
END:VCALENDAR
