BEGIN:VCALENDAR
VERSION:2.0
PRODID:-//hacksw/handcal//NONSGML v1.0//EN
BEGIN:VEVENT
DTSTAMP:20190130T140000Z
DTSTART:20190130T140000Z
DTEND:20190130T153000Z
LOCATION:AWO Servicehaus , Mathildenstraße 22, Flensburg, 24937, Deutschland
SUMMARY:Senioren Union Flensburg: Jahreshauptversammlung
END:VEVENT
END:VCALENDAR
