BEGIN:VCALENDAR
VERSION:2.0
PRODID:-//hacksw/handcal//NONSGML v1.0//EN
BEGIN:VEVENT
DTSTAMP:20190408T080000Z
DTSTART:20190408T080000Z
DTEND:20190408T093000Z
LOCATION:Europa Universität Flensburg, Oslo-Gebäude (OSL  247), Auf dem Campus 1, Flensburg, 24943, Deutschland
SUMMARY:Mit Europa Zukunft für den Norden sichern
END:VEVENT
END:VCALENDAR
