BEGIN:VCALENDAR
VERSION:2.0
PRODID:-//hacksw/handcal//NONSGML v1.0//EN
BEGIN:VEVENT
DTSTAMP:20190516T120000Z
DTSTART:20190516T120000Z
DTEND:20190516T140000Z
LOCATION:Café Central, Große Straße 83, Flensburg, 24937, Deutschland
SUMMARY:"World-Café" mit EU-Kandidat Niclas Herbst
END:VEVENT
END:VCALENDAR
