BEGIN:VCALENDAR
VERSION:2.0
PRODID:-//hacksw/handcal//NONSGML v1.0//EN
BEGIN:VEVENT
DTSTAMP:20190525T073000Z
DTSTART:20190525T073000Z
DTEND:20190525T120000Z
LOCATION:Einkaufsstraße, Holm 32-34, Flensburg, Deutschland
SUMMARY:Zentraler Infostand zur Europawahl
END:VEVENT
END:VCALENDAR
