BEGIN:VCALENDAR
VERSION:2.0
PRODID:-//hacksw/handcal//NONSGML v1.0//EN
BEGIN:VEVENT
DTSTAMP:20190511T120000Z
DTSTART:20190511T120000Z
DTEND:20190511T150000Z
LOCATION:Hafenspitze, Flensburg, Deutschland
SUMMARY:Jütländische Kaffeetafel: Mit Drahtesel und Ministerin
END:VEVENT
END:VCALENDAR
