BEGIN:VCALENDAR
VERSION:2.0
PRODID:-//hacksw/handcal//NONSGML v1.0//EN
BEGIN:VEVENT
DTSTAMP:20190524T130000Z
DTSTART:20190524T130000Z
DTEND:20190524T150000Z
LOCATION:Duburg (bei REWE), Waldstraße 24, Flensburg, 24939, Deutschland
SUMMARY:Infostand zur Europawahl
END:VEVENT
END:VCALENDAR
