BEGIN:VCALENDAR
VERSION:2.0
PRODID:-//hacksw/handcal//NONSGML v1.0//EN
BEGIN:VEVENT
DTSTAMP:20190731T163000Z
DTSTART:20190731T163000Z
DTEND:20190731T173000Z
LOCATION:CDU Flensburg, Neustadt 16, Flensburg, 24939, Deutschland
SUMMARY:Sprechstunde mit Arne Rüstemeier
END:VEVENT
END:VCALENDAR
