BEGIN:VCALENDAR
VERSION:2.0
PRODID:-//hacksw/handcal//NONSGML v1.0//EN
BEGIN:VEVENT
DTSTAMP:20191120T180000Z
DTSTART:20191120T180000Z
DTEND:20191120T200000Z
LOCATION:Robbe und Berking Yachting Heritage Centre, Am Industriehafen 5, Flensburg, 24937, Deutschland
SUMMARY:Kreisparteitag
END:VEVENT
END:VCALENDAR
