BEGIN:VCALENDAR
VERSION:2.0
PRODID:-//hacksw/handcal//NONSGML v1.0//EN
BEGIN:VEVENT
DTSTAMP:20191112T180000Z
DTSTART:20191112T180000Z
DTEND:20191112T200000Z
LOCATION:Bürgerhalle des Rathauses, Rathausplatz 1, Flensburg, 24937, Deutschland
SUMMARY:Einwohnerversammlung
END:VEVENT
END:VCALENDAR
