BEGIN:VCALENDAR
VERSION:2.0
PRODID:-//hacksw/handcal//NONSGML v1.0//EN
BEGIN:VEVENT
DTSTAMP:20200122T180000Z
DTSTART:20200122T180000Z
DTEND:20200122T200000Z
LOCATION:Flensborghus, Kleiner Saal, Norderstraße 76, Flensburg, Deutschland
SUMMARY:Historische Grenzziehung 1920: Friede, Freude, Pandekager?
END:VEVENT
END:VCALENDAR
