BEGIN:VCALENDAR
VERSION:2.0
PRODID:-//hacksw/handcal//NONSGML v1.0//EN
BEGIN:VEVENT
DTSTAMP:20200218T180000Z
DTSTART:20200218T180000Z
DTEND:20200218T203000Z
LOCATION:Restaurant Ambiente, Westerallee 55, Flensburg, 24941, Deutschland
SUMMARY:Winterempfang der CDU Flensburg mit MdB Ingo Gädechens
END:VEVENT
END:VCALENDAR
