BEGIN:VCALENDAR
VERSION:2.0
PRODID:-//hacksw/handcal//NONSGML v1.0//EN
BEGIN:VEVENT
DTSTAMP:20200205T180000Z
DTSTART:20200205T180000Z
DTEND:20200205T193000Z
LOCATION:Ollis Weinlounge, Große Straße 52, Flensburg, 24937, Deutschland
SUMMARY:Aktuelle Politik im Gespräch
END:VEVENT
END:VCALENDAR
