BEGIN:VCALENDAR
VERSION:2.0
PRODID:-//hacksw/handcal//NONSGML v1.0//EN
BEGIN:VEVENT
DTSTAMP:20200205T160000Z
DTSTART:20200205T160000Z
DTEND:20200205T173000Z
LOCATION:CDU Flensburg, Neustadt 16, Flensburg, Deutschland
SUMMARY:Sprechstunde mit Petra Nicolaisen
END:VEVENT
END:VCALENDAR
