BEGIN:VCALENDAR
VERSION:2.0
PRODID:-//hacksw/handcal//NONSGML v1.0//EN
BEGIN:VEVENT
DTSTAMP:20200805T170000Z
DTSTART:20200805T170000Z
DTEND:20200805T183000Z
LOCATION:Online-Veranstaltung, Deutschland
SUMMARY:Pandemie, Proteste und Präsidentschaftswahl
END:VEVENT
END:VCALENDAR
