BEGIN:VCALENDAR
VERSION:2.0
PRODID:-//hacksw/handcal//NONSGML v1.0//EN
BEGIN:VEVENT
DTSTAMP:20200831T170000Z
DTSTART:20200831T170000Z
DTEND:20200831T190000Z
LOCATION:Wikinghalle, Alter Kirchenweg 38, Handewitt, 24983, Deutschland
SUMMARY:Wahlkreismitgliederversammlung / Bundestagswahl 2021
END:VEVENT
END:VCALENDAR
