BEGIN:VCALENDAR
VERSION:2.0
PRODID:-//hacksw/handcal//NONSGML v1.0//EN
BEGIN:VEVENT
DTSTAMP:20210127T170000Z
DTSTART:20210127T170000Z
DTEND:20210127T183000Z
LOCATION:Online-Veranstaltung, Deutschland
SUMMARY:"Chancen der Krise" mit Dr. Hendrik Hoppenstedt
END:VEVENT
END:VCALENDAR
