BEGIN:VCALENDAR
VERSION:2.0
PRODID:-//hacksw/handcal//NONSGML v1.0//EN
BEGIN:VEVENT
DTSTAMP:20210317T170000Z
DTSTART:20210317T170000Z
DTEND:20210317T180000Z
LOCATION:Online-Veranstaltung, Deutschland
SUMMARY:Talk mit Daniel Günther
END:VEVENT
END:VCALENDAR
