BEGIN:VCALENDAR
VERSION:2.0
PRODID:-//hacksw/handcal//NONSGML v1.0//EN
BEGIN:VEVENT
DTSTAMP:20220310T180000Z
DTSTART:20220310T180000Z
DTEND:20220310T200000Z
LOCATION:Phänomenta, Norderstraße 157, Flensburg, Deutschland
SUMMARY:Flensburger Gespräche: Energiewende - klimaneutrales Industrieland SH
END:VEVENT
END:VCALENDAR
