BEGIN:VCALENDAR
VERSION:2.0
PRODID:-//hacksw/handcal//NONSGML v1.0//EN
BEGIN:VEVENT
DTSTAMP:20220408T060000Z
DTSTART:20220408T060000Z
DTEND:20220408T090000Z
LOCATION:Royal Warehouse, Liebigstraße 23, Flensburg, 24941, Deutschland
SUMMARY:„Die Kunst guten Führens“: Dr. Thomas de Maizière, Bundesinnenmister a.D.
END:VEVENT
END:VCALENDAR
