BEGIN:VCALENDAR
VERSION:2.0
PRODID:-//hacksw/handcal//NONSGML v1.0//EN
BEGIN:VEVENT
DTSTAMP:20220407T170000Z
DTSTART:20220407T170000Z
DTEND:20220407T190000Z
LOCATION:Robbe & Berking Yachting Heritage Centre, Harniskai 13, Flensburg, 24937, Deutschland
SUMMARY:Katastrophenschutz und Krisenmanagement: Diskussion mit Thomas de Maizière
END:VEVENT
END:VCALENDAR
