BEGIN:VCALENDAR
VERSION:2.0
PRODID:-//hacksw/handcal//NONSGML v1.0//EN
BEGIN:VEVENT
DTSTAMP:20230201T173000Z
DTSTART:20230201T173000Z
DTEND:20230201T203000Z
LOCATION:Offiziersheim Flensburg-Mürwik e.V., Swinemünder Straße 9, Flensburg, 24944, Deutschland
SUMMARY:Kreisparteitag und Wahlkreismitgliederversammlung zur Kommunalwahl 2023
END:VEVENT
END:VCALENDAR
