BEGIN:VCALENDAR
VERSION:2.0
PRODID:-//hacksw/handcal//NONSGML v1.0//EN
BEGIN:VEVENT
DTSTAMP:20230427T140000Z
DTSTART:20230427T140000Z
DTEND:20230427T150000Z
LOCATION:Südermarkt, Südermarkt, Flensburg, Deutschland
SUMMARY:Daniel Günther in Flensburg
END:VEVENT
END:VCALENDAR
