BEGIN:VCALENDAR
VERSION:2.0
PRODID:-//hacksw/handcal//NONSGML v1.0//EN
BEGIN:VEVENT
DTSTAMP:20240207T173000Z
DTSTART:20240207T173000Z
DTEND:20240207T203000Z
LOCATION:Borgerforenigen, Holm 17, Flensburg, 24937, Deutschland
SUMMARY:Kreisparteitag mit Wahlen
END:VEVENT
END:VCALENDAR
