BEGIN:VCALENDAR
VERSION:2.0
PRODID:-//hacksw/handcal//NONSGML v1.0//EN
BEGIN:VEVENT
DTSTAMP:20251015T220000Z
DTSTART:20251015T220000Z
DTEND:20251015T220000Z
SUMMARY:Kommende Termine unserer CDU Flensburg 2025
END:VEVENT
END:VCALENDAR
